0.1
0
0
-0.1
616423.668125075
4703989.3720035
