0.1
0
0
-0.1
617279.897477144
4704003.67995955
