0.1
0
0
-0.1
615577.053438295
4703396.76239764
