0.1
0
0
-0.1
617289.657840001
4703425.37551122
