0.1
0
0
-0.1
616443.044366597
4702832.76372957
