0.1
0
0
-0.1
619012.157075256
4702876.31983204
