0.1
0
0
-0.1
613036.356811069
4701619.56798353
