0.1
0
0
-0.1
613064.568727091
4699884.64796211
