0.1
0
0
-0.1
616462.419110193
4701676.15244697
