0.1
0
0
-0.1
615634.748572402
4699926.92642612
