0.1
0
0
-0.1
618195.101264516
4700548.35800432
