0.1
0
0
-0.1
613959.174340995
4697585.33850123
