0.1
0
0
-0.1
615673.194471408
4697613.72657367
