0.1
0
0
-0.1
618234.399747274
4698235.14384781
