0.1
0
0
-0.1
613120.947807239
4696414.86957256
