0.1
0
0
-0.1
613139.730840319
4695258.28142534
