0.1
0
0
-0.1
615702.012029543
4695878.83441161
