0.1
0
0
-0.1
619121.019236543
4696514.96324543
