0.1
0
0
-0.1
613149.122358084
4694679.9910984
