0.1
0
0
-0.1
614034.875697329
4692958.99903533
