0.1
0
0
-0.1
618312.964629985
4693608.76411951
