0.1
0
0
-0.1
614921.059290804
4691238.19654526
