0.1
0
0
-0.1
618332.602098435
4692452.18035082
