0.1
0
0
-0.1
618342.418334571
4691873.88421328
