0.1
0
0
-0.1
619200.142504472
4691888.60524895
