0.1
0
0
-0.1
623376.122369356
4698324.55863634
