0.1
0
0
-0.1
626793.489908536
4698964.52962267
