0.1
0
0
-0.1
625100.468915156
4697776.76857637
