0.1
0
0
-0.1
625957.516159283
4697792.33929986
