0.1
0
0
-0.1
628528.669443845
4697839.25762969
