0.1
0
0
-0.1
623406.8734679
4696589.64365993
