0.1
0
0
-0.1
622570.040543098
4695417.88741772
