0.1
0
0
-0.1
625110.861313406
4697198.46147449
