0.1
0
0
-0.1
629417.96861863
4696120.29627367
