0.1
0
0
-0.1
622600.563655436
4693682.99661813
