0.1
0
0
-0.1
630307.685385108
4694401.33934925
