0.10866665545752
0.0291171425740336
0.0291171425740336
-0.10866665545752
589353.842125869
4685897.96798878
