0.105
0
0
-0.105
619929.6235
4767706.2895
