0.105
0
0
-0.105
619947.737
4767081.75
