0.105
0
0
-0.105
619960.548
4766458.9955
