0.105
0
0
-0.105
620091.804
4761448.6105
