0.105
0
0
-0.105
621036.297
4766754.7725
