0.105
0
0
-0.105
621042.2765
4761167.7915
