0.105
0
0
-0.105
622058.296
4766795.5675
