0.105
0
0
-0.105
622056.627
4765469.4535
