0.105
0
0
-0.105
622057.5345
4763476.872
