0.105
0
0
-0.105
622059.272
4762811.2425
