0.105
0
0
-0.105
622059.7695
4759491.3395
