0.1125
0
0
-0.1125
598088.9024
4694430.32825
