0.105715419838415
0.0384772661241377
0.0384772661241377
-0.105715419838415
597465.638248073
4685553.33878732
